BEGIN:VCALENDAR
VERSION:2.0
PRODID:-//Energetik Karlich - ECPv6.15.16//NONSGML v1.0//EN
CALSCALE:GREGORIAN
METHOD:PUBLISH
X-ORIGINAL-URL:https://energetik-karlich.at
X-WR-CALDESC:Veranstaltungen für Energetik Karlich
REFRESH-INTERVAL;VALUE=DURATION:PT1H
X-Robots-Tag:noindex
X-PUBLISHED-TTL:PT1H
BEGIN:VTIMEZONE
TZID:Europe/Berlin
BEGIN:DAYLIGHT
TZOFFSETFROM:+0100
TZOFFSETTO:+0200
TZNAME:CEST
DTSTART:20250330T010000
END:DAYLIGHT
BEGIN:STANDARD
TZOFFSETFROM:+0200
TZOFFSETTO:+0100
TZNAME:CET
DTSTART:20251026T010000
END:STANDARD
BEGIN:DAYLIGHT
TZOFFSETFROM:+0100
TZOFFSETTO:+0200
TZNAME:CEST
DTSTART:20260329T010000
END:DAYLIGHT
BEGIN:STANDARD
TZOFFSETFROM:+0200
TZOFFSETTO:+0100
TZNAME:CET
DTSTART:20261025T010000
END:STANDARD
BEGIN:DAYLIGHT
TZOFFSETFROM:+0100
TZOFFSETTO:+0200
TZNAME:CEST
DTSTART:20270328T010000
END:DAYLIGHT
BEGIN:STANDARD
TZOFFSETFROM:+0200
TZOFFSETTO:+0100
TZNAME:CET
DTSTART:20271031T010000
END:STANDARD
END:VTIMEZONE
BEGIN:VEVENT
DTSTART;TZID=Europe/Berlin:20260310T170000
DTEND;TZID=Europe/Berlin:20260310T200000
DTSTAMP:20260424T122801
CREATED:20230219T151917Z
LAST-MODIFIED:20260130T175025Z
UID:7905-1773162000-1773172800@energetik-karlich.at
SUMMARY:Workshop: Räuchern zu Ostern
DESCRIPTION:Energetischer Frühjahrsputz\nOstern steht seit jeher für Neubeginn\, Reinigung und Aufbruch. Genau diese Qualität kannst du mit traditionellem Räuchern und ausgewählten Pflanzen- und Duftessenzen bewusst in dein Zuhause (und in dich) holen. \nWie beim klassischen Frühjahrsputz darf auch energetisch Altes gehen: schwere\, stagnierende Schwingungen lösen sich – und du schaffst Raum für frische\, kraftvolle Frühlingsenergie.\nIn diesem Workshop lernst du Schritt für Schritt\, wie du Räuchern und ätherische Öle sinnvoll kombinierst\, um Räume\, Stimmung und dein eigenes Energiefeld spürbar zu klären. \nDas erwartet dich im Workshop: \n\nRäuchern zu Ostern: Ursprung\, Sinn & Rituale\nRäucherwerk im Überblick: Harze\, Kräuter & Mischungen\nErgänzend: passende ätherische Öle & Anwendungsideen\nDer energetische Frühjahrsputz für Haus & Körper – so geht’s wirklich\nKonkrete Anleitung für die einzelnen Tage inkl. Durchführung\n\n✨ Tritt ein in eine lichtvolle Zeit – klar\, duftend\, stärkend. \n\nBonus: Umfangreiches Skript mit vielen Tipps & Rezepten\nBeitrag: 45 €\nWichtig: Begrenzte Teilnehmeranzahl – nur 6 Plätze
URL:https://energetik-karlich.at/event/workshop-raeuchern-zu-ostern/
LOCATION:Energetik Karlich\, Untere Hauptstraße\, 46\, Trausdorf an der Wulka\, 7061
CATEGORIES:Workshop
ATTACH;FMTTYPE=image/jpeg:https://energetik-karlich.at/wp-content/uploads/2023/02/Raeuchern-zu-Ostern-e1769795315467.jpg
END:VEVENT
END:VCALENDAR